BEGIN:VCALENDAR
VERSION:2.0
PRODID:-//Alder Grange - ECPv6.15.20//NONSGML v1.0//EN
CALSCALE:GREGORIAN
METHOD:PUBLISH
X-WR-CALNAME:Alder Grange
X-ORIGINAL-URL:https://aldergrange.com
X-WR-CALDESC:Events for Alder Grange
REFRESH-INTERVAL;VALUE=DURATION:PT1H
X-Robots-Tag:noindex
X-PUBLISHED-TTL:PT1H
BEGIN:VTIMEZONE
TZID:Europe/London
BEGIN:DAYLIGHT
TZOFFSETFROM:+0000
TZOFFSETTO:+0100
TZNAME:BST
DTSTART:20240331T010000
END:DAYLIGHT
BEGIN:STANDARD
TZOFFSETFROM:+0100
TZOFFSETTO:+0000
TZNAME:GMT
DTSTART:20241027T010000
END:STANDARD
BEGIN:DAYLIGHT
TZOFFSETFROM:+0000
TZOFFSETTO:+0100
TZNAME:BST
DTSTART:20250330T010000
END:DAYLIGHT
BEGIN:STANDARD
TZOFFSETFROM:+0100
TZOFFSETTO:+0000
TZNAME:GMT
DTSTART:20251026T010000
END:STANDARD
BEGIN:DAYLIGHT
TZOFFSETFROM:+0000
TZOFFSETTO:+0100
TZNAME:BST
DTSTART:20260329T010000
END:DAYLIGHT
BEGIN:STANDARD
TZOFFSETFROM:+0100
TZOFFSETTO:+0000
TZNAME:GMT
DTSTART:20261025T010000
END:STANDARD
END:VTIMEZONE
BEGIN:VEVENT
DTSTART;TZID=Europe/London:20251120T000000
DTEND;TZID=Europe/London:20251120T235959
DTSTAMP:20260425T231841
CREATED:20250903T135023Z
LAST-MODIFIED:20250903T135025Z
UID:7057-1763596800-1763683199@aldergrange.com
SUMMARY:Blood Brothers Trip
DESCRIPTION:
URL:https://aldergrange.com/event/blood-brothers-trip/
END:VEVENT
BEGIN:VEVENT
DTSTART;TZID=Europe/London:20251120T163000
DTEND;TZID=Europe/London:20251120T193000
DTSTAMP:20260425T231841
CREATED:20250903T125652Z
LAST-MODIFIED:20250903T125654Z
UID:7014-1763656200-1763667000@aldergrange.com
SUMMARY:AG6 Open Evening
DESCRIPTION:
URL:https://aldergrange.com/event/ag6-open-evening-2/
END:VEVENT
END:VCALENDAR