BEGIN:VCALENDAR
VERSION:2.0
PRODID:-//Alder Grange - ECPv6.15.20//NONSGML v1.0//EN
CALSCALE:GREGORIAN
METHOD:PUBLISH
X-ORIGINAL-URL:https://aldergrange.com
X-WR-CALDESC:Events for Alder Grange
REFRESH-INTERVAL;VALUE=DURATION:PT1H
X-Robots-Tag:noindex
X-PUBLISHED-TTL:PT1H
BEGIN:VTIMEZONE
TZID:Europe/London
BEGIN:DAYLIGHT
TZOFFSETFROM:+0000
TZOFFSETTO:+0100
TZNAME:BST
DTSTART:20240331T010000
END:DAYLIGHT
BEGIN:STANDARD
TZOFFSETFROM:+0100
TZOFFSETTO:+0000
TZNAME:GMT
DTSTART:20241027T010000
END:STANDARD
BEGIN:DAYLIGHT
TZOFFSETFROM:+0000
TZOFFSETTO:+0100
TZNAME:BST
DTSTART:20250330T010000
END:DAYLIGHT
BEGIN:STANDARD
TZOFFSETFROM:+0100
TZOFFSETTO:+0000
TZNAME:GMT
DTSTART:20251026T010000
END:STANDARD
BEGIN:DAYLIGHT
TZOFFSETFROM:+0000
TZOFFSETTO:+0100
TZNAME:BST
DTSTART:20260329T010000
END:DAYLIGHT
BEGIN:STANDARD
TZOFFSETFROM:+0100
TZOFFSETTO:+0000
TZNAME:GMT
DTSTART:20261025T010000
END:STANDARD
BEGIN:DAYLIGHT
TZOFFSETFROM:+0000
TZOFFSETTO:+0100
TZNAME:BST
DTSTART:20270328T010000
END:DAYLIGHT
BEGIN:STANDARD
TZOFFSETFROM:+0100
TZOFFSETTO:+0000
TZNAME:GMT
DTSTART:20271031T010000
END:STANDARD
END:VTIMEZONE
BEGIN:VEVENT
DTSTART;TZID=Europe/London:20251222T080000
DTEND;TZID=Europe/London:20260102T170000
DTSTAMP:20260425T185630
CREATED:20250903T124404Z
LAST-MODIFIED:20250903T124531Z
UID:6996-1766390400-1767373200@aldergrange.com
SUMMARY:Half Term 2
DESCRIPTION:School Closed
URL:https://aldergrange.com/event/half-term-2/
END:VEVENT
BEGIN:VEVENT
DTSTART;TZID=Europe/London:20260115T163000
DTEND;TZID=Europe/London:20260115T193000
DTSTAMP:20260425T185630
CREATED:20250903T123455Z
LAST-MODIFIED:20250903T123457Z
UID:6984-1768494600-1768505400@aldergrange.com
SUMMARY:Year 8 Parents Evening
DESCRIPTION:
URL:https://aldergrange.com/event/year-8-parents-evening/
END:VEVENT
BEGIN:VEVENT
DTSTART;TZID=Europe/London:20260129T163000
DTEND;TZID=Europe/London:20260129T193000
DTSTAMP:20260425T185630
CREATED:20250903T123653Z
LAST-MODIFIED:20250903T123655Z
UID:6988-1769704200-1769715000@aldergrange.com
SUMMARY:Year 10 Parents Evening
DESCRIPTION:
URL:https://aldergrange.com/event/year-10-parents-evening/
END:VEVENT
END:VCALENDAR